BEGIN:VCALENDAR
VERSION:2.0
PRODID:-//Plone.org//NONSGML plone.app.event//EN
X-WR-TIMEZONE:UTC
BEGIN:VEVENT
SUMMARY:JUPITER – Exascale in Europa
DTSTART:20250905T120000Z
DTEND:20250905T133000Z
DTSTAMP:20260423T210804Z
UID:a0ad2db49d56461498851ccfeb7bfb13@www.fz-juelich.de
CONTACT:Britta Ottinger\, 02461 61 2165\, info@fzj-events.de
CREATED:20250709T104306Z
DESCRIPTION:\n\n
LAST-MODIFIED:20260413T142229Z
LOCATION:Forschungszentrum Jülich
URL:https://www.fz-juelich.de/de/aktuelles/termine/tbc
END:VEVENT
END:VCALENDAR
