BEGIN:VCALENDAR
VERSION:2.0
PRODID:-//Plone.org//NONSGML plone.app.event//EN
X-WR-TIMEZONE:UTC
BEGIN:VEVENT
SUMMARY:Trainingskurs "Einführung in die parallele Programmierung mit MPI
  und OpenMP"
DTSTART;TZID=Europe/Berlin:20121126T091000
DTEND;TZID=Europe/Berlin:20121128T163000
DTSTAMP:20260421T033824Z
UID:3712c3d03db44fa0aae81bfbedfcd029@www.fz-juelich.de
CREATED:20100715T101100Z
LAST-MODIFIED:20260413T141915Z
URL:https://www.fz-juelich.de/de/jsc/aktuelles/termine/kurse/2012/mpi_open
 mp-2012
END:VEVENT
BEGIN:VTIMEZONE
TZID:Europe/Berlin
X-LIC-LOCATION:Europe/Berlin
BEGIN:STANDARD
DTSTART:20121028T020000
TZNAME:CET
TZOFFSETFROM:+0200
TZOFFSETTO:+0100
END:STANDARD
END:VTIMEZONE
END:VCALENDAR
