BEGIN:VCALENDAR
VERSION:2.0
PRODID:-//Plone.org//NONSGML plone.app.event//EN
X-WR-TIMEZONE:UTC
BEGIN:VEVENT
SUMMARY:Trainingskurs "Einführung in Python"
DTSTART;TZID=Europe/Berlin:20130610T090000
DTEND;TZID=Europe/Berlin:20130612T163000
DTSTAMP:20260420T070425Z
UID:9afc448af51c429c8e977d18ef8232b3@www.fz-juelich.de
CREATED:20120927T113400Z
LAST-MODIFIED:20260413T141913Z
LOCATION:Jülich Supercomputing Centre\, Ausbildungsraum 1\, Geb. 16.3\, R
 . 021
URL:https://www.fz-juelich.de/de/jsc/aktuelles/termine/kurse/2013/python-2
 013
END:VEVENT
BEGIN:VTIMEZONE
TZID:Europe/Berlin
X-LIC-LOCATION:Europe/Berlin
BEGIN:DAYLIGHT
DTSTART:20130331T030000
TZNAME:CEST
TZOFFSETFROM:+0100
TZOFFSETTO:+0200
END:DAYLIGHT
END:VTIMEZONE
END:VCALENDAR
