BEGIN:VCALENDAR
VERSION:2.0
PRODID:-//Plone.org//NONSGML plone.app.event//EN
X-WR-TIMEZONE:UTC
BEGIN:VEVENT
SUMMARY:Trainingskurs "Das Programmierwerkzeug make"
DTSTART;TZID=Europe/Berlin:20141120T133000
DTEND;TZID=Europe/Berlin:20141120T163000
DTSTAMP:20260421T015151Z
UID:12606a598b89460ea6ba07967f567156@www.fz-juelich.de
CREATED:20131030T111100Z
LAST-MODIFIED:20260413T141901Z
LOCATION:Jülich Supercomputing Centre\, Seminarraum\, Geb. 16.3\, R. 406\
 , 2. Etage
URL:https://www.fz-juelich.de/de/jsc/aktuelles/termine/kurse/2014/make-201
 4
END:VEVENT
BEGIN:VTIMEZONE
TZID:Europe/Berlin
X-LIC-LOCATION:Europe/Berlin
BEGIN:STANDARD
DTSTART:20141026T020000
TZNAME:CET
TZOFFSETFROM:+0200
TZOFFSETTO:+0100
END:STANDARD
END:VTIMEZONE
END:VCALENDAR
