BEGIN:VCALENDAR
VERSION:2.0
PRODID:-//Plone.org//NONSGML plone.app.event//EN
X-WR-TIMEZONE:UTC
BEGIN:VEVENT
SUMMARY:Trainingskurs "Einführung in die Programmierung und Nutzung der S
 upercomputerressourcen in Jülich"
DTSTART;TZID=Europe/Berlin:20160523T130000
DTEND;TZID=Europe/Berlin:20160524T163000
DTSTAMP:20260422T132240Z
UID:4ed5539951ef41e49786e5b0fbc389d9@www.fz-juelich.de
CREATED:20150930T101100Z
LAST-MODIFIED:20260413T141849Z
LOCATION:Jülich Supercomputing Centre\, Hörsaal\, Geb. 16.3\, R. 222
URL:https://www.fz-juelich.de/de/jsc/aktuelles/termine/kurse/2016/supercom
 puter-2016-05
END:VEVENT
BEGIN:VTIMEZONE
TZID:Europe/Berlin
X-LIC-LOCATION:Europe/Berlin
BEGIN:DAYLIGHT
DTSTART:20160327T030000
TZNAME:CEST
TZOFFSETFROM:+0100
TZOFFSETTO:+0200
END:DAYLIGHT
END:VTIMEZONE
END:VCALENDAR
