BEGIN:VCALENDAR
VERSION:2.0
PRODID:-//Plone.org//NONSGML plone.app.event//EN
X-WR-TIMEZONE:UTC
BEGIN:VEVENT
SUMMARY:Introduction to Scalable Deep Learning (PRACE-Trainingskurs\, onli
 ne)
DTSTART;TZID=Europe/Berlin:20210201T093000
DTEND;TZID=Europe/Berlin:20210205T130000
DTSTAMP:20260424T154205Z
UID:57b84ed14c684638b6385cda5a434e57@www.fz-juelich.de
CREATED:20210108T111100Z
LAST-MODIFIED:20260413T141815Z
LOCATION:online
URL:https://www.fz-juelich.de/de/jsc/aktuelles/termine/kurse/2021/ptc-scal
 able-deep-learning-2021
END:VEVENT
BEGIN:VTIMEZONE
TZID:Europe/Berlin
X-LIC-LOCATION:Europe/Berlin
BEGIN:STANDARD
DTSTART:20201025T020000
TZNAME:CET
TZOFFSETFROM:+0200
TZOFFSETTO:+0100
END:STANDARD
END:VTIMEZONE
END:VCALENDAR
