BEGIN:VCALENDAR
VERSION:2.0
PRODID:-//Plone.org//NONSGML plone.app.event//EN
X-WR-TIMEZONE:UTC
BEGIN:VEVENT
SUMMARY:Introduction to Unreal Engine for Science (Trainingskurs\, online)
DTSTART;TZID=Europe/Berlin:20210203T100000
DTEND;TZID=Europe/Berlin:20210224T150000
DTSTAMP:20260420T220531Z
UID:b96d183cc35e41b5b4309339be600d92@www.fz-juelich.de
CREATED:20201207T111100Z
LAST-MODIFIED:20260413T141817Z
LOCATION:online
URL:https://www.fz-juelich.de/de/jsc/aktuelles/termine/kurse/2021/unreal-e
 ngine-2021
END:VEVENT
BEGIN:VTIMEZONE
TZID:Europe/Berlin
X-LIC-LOCATION:Europe/Berlin
BEGIN:STANDARD
DTSTART:20201025T020000
TZNAME:CET
TZOFFSETFROM:+0200
TZOFFSETTO:+0100
END:STANDARD
END:VTIMEZONE
END:VCALENDAR
