BEGIN:VCALENDAR
VERSION:2.0
PRODID:-//Plone.org//NONSGML plone.app.event//EN
X-WR-TIMEZONE:UTC
BEGIN:VEVENT
SUMMARY:High-performance computing with Python (Trainingskurs\, online)
DTSTART:20230612T070000Z
DTEND:20230616T110000Z
DTSTAMP:20260425T002633Z
UID:676a426c8daf417491cb2d4419893a8a@www.fz-juelich.de
CONTACT:Dr. Jan Meinke\, https://indico3-jsc.fz-juelich.de/event/103/regis
 trations/67/
CREATED:20221115T104741Z
LAST-MODIFIED:20260413T141756Z
LOCATION:online
URL:https://www.fz-juelich.de/de/jsc/aktuelles/termine/kurse/2023/hpc-pyth
 on
END:VEVENT
END:VCALENDAR
