BEGIN:VCALENDAR
VERSION:2.0
PRODID:-//Plone.org//NONSGML plone.app.event//EN
X-WR-TIMEZONE:UTC
BEGIN:VEVENT
SUMMARY:Einführung in Python (Trainingskurs)
DTSTART:20231016T063000Z
DTEND:20231018T143000Z
DTSTAMP:20260421T215511Z
UID:9d2c46822b9945d38989f13e3e1bcd89@www.fz-juelich.de
CONTACT:Martin Lischewski\, https://indico3-jsc.fz-juelich.de/event/123/re
 gistrations/83/
CREATED:20220512T173303Z
LAST-MODIFIED:20260413T141753Z
LOCATION:Jülich Supercomputing Centre\, Ausbildungsraum 1\, Geb. 16.3\, R
 . 213a
URL:https://www.fz-juelich.de/de/jsc/aktuelles/termine/kurse/2023/python-1
END:VEVENT
END:VCALENDAR
