BEGIN:VCALENDAR
VERSION:2.0
PRODID:-//Plone.org//NONSGML plone.app.event//EN
X-WR-TIMEZONE:UTC
BEGIN:VEVENT
SUMMARY:Digital Women in Science Day
DTSTART:20241211T150000Z
DTEND:20241211T173000Z
DTSTAMP:20260420T221452Z
UID:0ccd2d5e3c69492bb0a16da3c42037f0@www.fz-juelich.de
CONTACT:Alissa Aarts\, a.aarts@fz-juelich.de
CREATED:20230331T094500Z
LAST-MODIFIED:20260407T073743Z
LOCATION:online
URL:https://www.fz-juelich.de/de/karriere/events/dwisd
END:VEVENT
END:VCALENDAR
