BEGIN:VCALENDAR
VERSION:2.0
PRODID:-//Plone.org//NONSGML plone.app.event//EN
X-WR-TIMEZONE:UTC
BEGIN:VEVENT
SUMMARY:Quantum Careers (online)
DTSTART:20250414T133000Z
DTEND:20250414T153000Z
DTSTAMP:20260421T050005Z
UID:cc6d2c4855fa440cbf895eb163f58afb@www.fz-juelich.de
CONTACT:Alissa Aarts\, +492461619760\, a.aarts@fz-juelich.de
CREATED:20250218T075449Z
DESCRIPTION:On the occasion of World Quantum Day\, we are organising an on
 line information and exchange event for anyone interested in research in t
 he field of quantum technologies at Forschungszentrum Jülich and in caree
 r opportunities in this field.
LAST-MODIFIED:20260413T140030Z
LOCATION:online / zoom
URL:https://www.fz-juelich.de/de/karriere/events/quantum-careers
END:VEVENT
END:VCALENDAR
