BEGIN:VCALENDAR
VERSION:2.0
PRODID:-//Plone.org//NONSGML plone.app.event//EN
X-WR-TIMEZONE:UTC
BEGIN:VEVENT
SUMMARY:TechTalk with TechLab Aachen
DTSTART:20231108T170000Z
DTEND:20231108T180000Z
DTSTAMP:20260423T212638Z
UID:85a50d2d7a8441109d51bcdb17ba06a4@www.fz-juelich.de
CREATED:20231017T132325Z
LAST-MODIFIED:20260407T073420Z
LOCATION:zoom (Registration required)
URL:https://www.fz-juelich.de/en/careers/events-dates/techtalk-with-techla
 b-aachen
END:VEVENT
END:VCALENDAR
