BEGIN:VCALENDAR
VERSION:2.0
PRODID:-//Plone.org//NONSGML plone.app.event//EN
X-WR-TIMEZONE:UTC
BEGIN:VEVENT
SUMMARY:Tutorial "Kokkos: Enabling many-core performance portability throu
 gh polymorphic memory access patterns"
DTSTART;TZID=Europe/Berlin:20181008T100000
DTEND;TZID=Europe/Berlin:20181009T160000
DTSTAMP:20260423T210819Z
UID:339b3b402a52489a940d72ae530e0c29@www.fz-juelich.de
CREATED:20180924T064800Z
LAST-MODIFIED:20260413T140715Z
LOCATION:Jülich Supercomputing Centre\, Rotunda\, building 16.4\, Room 30
 1
URL:https://www.fz-juelich.de/en/jsc/news/events/2018/kokkos-tutorial-2018
END:VEVENT
BEGIN:VTIMEZONE
TZID:Europe/Berlin
X-LIC-LOCATION:Europe/Berlin
BEGIN:DAYLIGHT
DTSTART:20180325T030000
TZNAME:CEST
TZOFFSETFROM:+0100
TZOFFSETTO:+0200
END:DAYLIGHT
END:VTIMEZONE
END:VCALENDAR
