BEGIN:VCALENDAR
VERSION:2.0
PRODID:-//Plone.org//NONSGML plone.app.event//EN
X-WR-TIMEZONE:UTC
BEGIN:VEVENT
SUMMARY:Training Course "GPU Programming"
DTSTART;TZID=Europe/Berlin:20120319T090000
DTEND;TZID=Europe/Berlin:20120321T163000
DTSTAMP:20260423T164206Z
UID:724b03df29e04f788eafd4a75142443e@www.fz-juelich.de
CREATED:20100202T230000Z
LAST-MODIFIED:20260413T140437Z
URL:https://www.fz-juelich.de/en/jsc/news/events/training-courses/2012/gpu
 -programming-2012
END:VEVENT
BEGIN:VTIMEZONE
TZID:Europe/Berlin
X-LIC-LOCATION:Europe/Berlin
BEGIN:STANDARD
DTSTART:20111030T020000
TZNAME:CET
TZOFFSETFROM:+0200
TZOFFSETTO:+0100
END:STANDARD
END:VTIMEZONE
END:VCALENDAR
