BEGIN:VCALENDAR
VERSION:2.0
PRODID:-//Plone.org//NONSGML plone.app.event//EN
X-WR-TIMEZONE:UTC
BEGIN:VEVENT
SUMMARY:Training course "Parallel and Scalable Machine Learning"
DTSTART;TZID=Europe/Berlin:20180306T090000
DTEND;TZID=Europe/Berlin:20180308T163000
DTSTAMP:20260424T120351Z
UID:f3de8fe2881046fe8301bb6e3bfd521f@www.fz-juelich.de
CREATED:20180110T111100Z
LAST-MODIFIED:20260413T140351Z
LOCATION:Jülich Supercomputing Centre\, Rotunda\, building 16.4\, room 30
 1
URL:https://www.fz-juelich.de/en/jsc/news/events/training-courses/2018/mac
 hine-learning-2018
END:VEVENT
BEGIN:VTIMEZONE
TZID:Europe/Berlin
X-LIC-LOCATION:Europe/Berlin
BEGIN:STANDARD
DTSTART:20171029T020000
TZNAME:CET
TZOFFSETFROM:+0200
TZOFFSETTO:+0100
END:STANDARD
END:VTIMEZONE
END:VCALENDAR
