BEGIN:VCALENDAR
VERSION:2.0
PRODID:-//Plone.org//NONSGML plone.app.event//EN
X-WR-TIMEZONE:UTC
BEGIN:VEVENT
SUMMARY:Directive-based GPU programming with OpenACC (PRACE training cours
 e\, online)
DTSTART;TZID=Europe/Berlin:20211027T090000
DTEND;TZID=Europe/Berlin:20211029T130000
DTSTAMP:20260423T214411Z
UID:55d744f450b6410ca1b5ac8f62b9c413@www.fz-juelich.de
CATEGORIES:#jsc-atml-x-dev,#jsc-nvlab
CREATED:20210818T101100Z
LAST-MODIFIED:20260413T140333Z
LOCATION:online
URL:https://www.fz-juelich.de/en/jsc/news/events/training-courses/2021/ptc
 -gpu-openacc-2021
END:VEVENT
BEGIN:VTIMEZONE
TZID:Europe/Berlin
X-LIC-LOCATION:Europe/Berlin
BEGIN:DAYLIGHT
DTSTART:20210328T030000
TZNAME:CEST
TZOFFSETFROM:+0100
TZOFFSETTO:+0200
END:DAYLIGHT
END:VTIMEZONE
END:VCALENDAR
