BEGIN:VCALENDAR
VERSION:2.0
PRODID:-//Plone.org//NONSGML plone.app.event//EN
X-WR-TIMEZONE:UTC
BEGIN:VEVENT
SUMMARY:GPU Programming Part 1: Foundations (training course)
DTSTART:20230417T070000Z
DTEND:20230419T150000Z
DTSTAMP:20260421T150855Z
UID:4d7fd7e2a36c4ccc9ba55e8c88532321@www.fz-juelich.de
CATEGORIES:#jsc-atml-x-dev,#jsc-nvlab,#jsc-sdl-bio
CONTACT:Dr. Jan Meinke\, https://indico3-jsc.fz-juelich.de/event/86/regist
 rations
CREATED:20220512T201614Z
LAST-MODIFIED:20260413T140315Z
LOCATION:Jülich Supercomputing Centre\, Building 16.3\, Room 213a
URL:https://www.fz-juelich.de/en/jsc/news/events/training-courses/2023/gpu
 -cuda
END:VEVENT
END:VCALENDAR
