BEGIN:VCALENDAR
VERSION:2.0
PRODID:-//Plone.org//NONSGML plone.app.event//EN
X-WR-TIMEZONE:UTC
BEGIN:VEVENT
SUMMARY:High-performance scientific computing in C++  (training course)
DTSTART:20230530T070000Z
DTEND:20230602T143000Z
DTSTAMP:20260423T071242Z
UID:ca8464b2855149a5a537fecc39c70ae5@www.fz-juelich.de
CATEGORIES:#jsc-sdl-bio
CONTACT:Dr. Sandipan Mohanty\, https://indico3-jsc.fz-juelich.de/event/105
 /registrations/69/
CREATED:20220512T201629Z
LAST-MODIFIED:20260413T140311Z
LOCATION:Jülich Supercomputing Centre\, Geb. 16.3\, R. 213a (Ausbildungsr
 aum 1)
URL:https://www.fz-juelich.de/en/jsc/news/events/training-courses/2023/hpc
 -cplusplus
END:VEVENT
END:VCALENDAR
