BEGIN:VCALENDAR
VERSION:2.0
PRODID:-//Plone.org//NONSGML plone.app.event//EN
X-WR-TIMEZONE:UTC
BEGIN:VEVENT
SUMMARY:Einführung in Python (training course)
DTSTART:20231016T063000Z
DTEND:20231018T143000Z
DTSTAMP:20260422T020057Z
UID:d6ae336b4130453abcf607dda929bbb4@www.fz-juelich.de
CONTACT:Martin Lischewski\, https://indico3-jsc.fz-juelich.de/event/123/re
 gistrations/83/
CREATED:20221115T091006Z
LAST-MODIFIED:20260413T140317Z
LOCATION:Jülich Supercomputing Centre\, Ausbildungsraum 1\, building 16.3
 \, room . 213a
URL:https://www.fz-juelich.de/en/jsc/news/events/training-courses/2023/pyt
 hon-1
END:VEVENT
END:VCALENDAR
