BEGIN:VCALENDAR
VERSION:2.0
PRODID:-//Plone.org//NONSGML plone.app.event//EN
X-WR-TIMEZONE:UTC
BEGIN:VEVENT
SUMMARY:GPU Programming Part 1: Foundations (training course\, on-site)
DTSTART:20240408T070000Z
DTEND:20240410T143000Z
DTSTAMP:20260421T030338Z
UID:cc56c67031bf4cff974497749e8e4897@www.fz-juelich.de
CATEGORIES:#jsc-atml-x-dev,#jsc-nvlab,#jsc-sdl-bio
CONTACT:Dr. Jan Meinke\, https://indico3-jsc.fz-juelich.de/event/158/regis
 trations/115/
CREATED:20220512T201614Z
LAST-MODIFIED:20260413T140257Z
LOCATION:Jülich Supercomputing Centre\, Building 16.3
URL:https://www.fz-juelich.de/en/jsc/news/events/training-courses/2024/gpu
 -cuda
END:VEVENT
END:VCALENDAR
