BEGIN:VCALENDAR
VERSION:2.0
PRODID:-//Plone.org//NONSGML plone.app.event//EN
X-WR-TIMEZONE:UTC
BEGIN:VEVENT
SUMMARY:GPU Programming Part 1: Foundations (training course\, on-site)
DTSTART:20250331T070000Z
DTEND:20250402T143000Z
DTSTAMP:20260421T032317Z
UID:53f4f7ec476b48d0b41c3e25d6485232@www.fz-juelich.de
CATEGORIES:#jsc-atml-x-dev,#jsc-nvlab,#jsc-sdl-bio
CONTACT:Dr. Jan Meinke\, https://indico3-jsc.fz-juelich.de/event/218/
CREATED:20220512T201614Z
LAST-MODIFIED:20260413T140443Z
LOCATION:Jülich Supercomputing Centre\, Building 16.3
URL:https://www.fz-juelich.de/en/jsc/news/events/training-courses/2025/gpu
 -cuda
END:VEVENT
END:VCALENDAR
