BEGIN:VCALENDAR
VERSION:2.0
PRODID:-//Plone.org//NONSGML plone.app.event//EN
X-WR-TIMEZONE:UTC
BEGIN:VEVENT
SUMMARY:High-Performance Scientific Computing in C++  (training course\, o
 nline)
DTSTART:20251027T080000Z
DTEND:20251030T153000Z
DTSTAMP:20260421T213918Z
UID:61fce5189663492aa47ddea1cb52ca26@www.fz-juelich.de
CATEGORIES:#jsc-sdl-bio
CONTACT:Sandipan Mohanty\, s.mohanty@fz-juelich.de\, https://indico3-jsc.f
 z-juelich.de/event/250/registrations/184/
CREATED:20220512T201629Z
LAST-MODIFIED:20260413T140619Z
LOCATION:online
URL:https://www.fz-juelich.de/en/jsc/news/events/training-courses/2025/hpc
 -cplusplus
END:VEVENT
END:VCALENDAR
