BEGIN:VCALENDAR
VERSION:2.0
PRODID:-//Plone.org//NONSGML plone.app.event//EN
X-WR-TIMEZONE:UTC
BEGIN:VEVENT
SUMMARY:Introduction to Supercomputing at JSC - Theory & Practice (trainin
 g course\, online)
DTSTART:20251110T120000Z
DTEND:20251113T160000Z
DTSTAMP:20260421T222724Z
UID:6be401c2dc904cffa46943546bb7f071@www.fz-juelich.de
CATEGORIES:#jsc-atml-x-dev,#jsc-nvlab
CONTACT:Ilya Zhukov\, Jolanta Zjupa\, i.zhukov@fz-juelich.de\, j.zjupa@fz-
 juelich.de\, https://indico3-jsc.fz-juelich.de/event/252/registrations/186
 /
CREATED:20220512T201855Z
LAST-MODIFIED:20260413T140619Z
LOCATION:online
URL:https://www.fz-juelich.de/en/jsc/news/events/training-courses/2025/sup
 ercomputing-2
END:VEVENT
END:VCALENDAR
