BEGIN:VCALENDAR
VERSION:2.0
PRODID:-//Plone.org//NONSGML plone.app.event//EN
X-WR-TIMEZONE:UTC
BEGIN:VEVENT
SUMMARY:Introduction to Supercomputing at JSC - Theory & Practice (trainin
 g course\, online)
DTSTART:20261130T120000Z
DTEND:20261130T160000Z
DTSTAMP:20260425T002535Z
UID:faea9973cb0c4dadbbe22a5cb7054f95@www.fz-juelich.de
CATEGORIES:#jsc-atml-x-dev,#jsc-nvlab
CONTACT:Ilya Zhukov\, Jolanta Zjupa\, i.zhukov@fz-juelich.de\, j.zjupa@fz-
 juelich.de
CREATED:20251219T124708Z
LAST-MODIFIED:20260413T133256Z
LOCATION:Online
URL:https://www.fz-juelich.de/en/jsc/news/events/training-courses/training
 -courses-2026/supercomputing-2
END:VEVENT
END:VCALENDAR
